{"text_format":"2","workbook":"xlsx","n_sheets":1,"sheets":["Лист1"],"not_rendered":{"charts":0,"images":0,"macros":0,"external_links":10,"defined_names":0,"comments":0,"pivot_tables":0},"unopened":[],"bounds":{"document_bytes":16777216,"sheet_cells":100000,"run_cost":"one","rows_first":2000,"rows_last":500,"rows_between":2000,"halvings":0,"cell_chars":16384,"cell_head_chars":4096},"cells_cut":0,"cells_raw":0,"read":"whole","date_system":"1900"}

{"sheet":"Лист1","index":0,"n_rows":196,"n_cols":12,"rows_kept":196,"cut":false,"hidden":false,"merged":[[0,2,0,4],[0,7,0,10],[1,7,1,10],[23,2,23,3],[42,2,42,3],[61,2,61,3],[80,2,80,3],[99,2,99,3],[118,2,118,3],[137,2,137,3],[156,2,156,3],[175,2,175,3],[194,2,194,3],[195,2,195,4]]}
["Школа",null,"МБОУ Малозападенская СОШ",null,null,"Утвердил:","должность","Директор"]
["Типовое примерное меню приготавливаемых блюд",{"$nulls":5},"фамилия","Форопонова О.Ю."]
["Возрастная категория",null,null,null,"7-11 лет",null,"дата",12,1,2026]
[{"$nulls":7},"день","месяц","год"]
["Неделя","День недели","Прием пищи","Раздел меню","Блюда","Вес блюда, г","Белки","Жиры","Углеводы","Калорийность","№ рецептуры","Цена"]
[1,1,"Завтрак","гор.блюдо",{"$f":"[1]!$D$4","v":"Каша \"Дружба\" молочная"},150,15,15,42,362,"Таб.2",28]
[]
[null,null,null,"гор.напиток",{"$f":"[1]!D5","v":"Чай с сахаром"},200,0,0,10,41,458,10]
[null,null,null,"хлеб",{"$f":"[1]!D6","v":"Хлеб пшеничный 2 сорт обогощенный"},20,2,0,10,47,13002,6]
[null,null,null,"фрукты",{"$f":"[1]!D7","v":"Фрукты свежие (Яблоко)"},100,0,0,10,47,79,15]
[{"$nulls":4},{"$f":"[1]!D8","v":"Оладьи с повидлом"},75,4,5,17,114,444,20]
[]
[null,null,null,"итого",null,{"$f":"SUM(F6:F12)","v":545},{"$f":"SUM(G6:G12)","v":21},20,89,611,null,{"$f":"SUM(L6:L12)","v":79}]
[{"$f":"A6","v":1},{"$f":"B6","v":1},"Обед","закуска"]
[null,null,null,"1 блюдо"]
[null,null,null,"2 блюдо"]
[null,null,null,"гарнир"]
[null,null,null,"напиток"]
[null,null,null,"хлеб бел."]
[null,null,null,"хлеб черн."]
[]
[]
[null,null,null,"итого",null,{"$f":"SUM(F14:F22)","v":0},{"$f":"SUM(G14:G22)","v":0},0,0,0,null,{"$f":"SUM(L14:L22)","v":0}]
[{"$f":"A6","v":1},{"$f":"B6","v":1},"Итого за день:",null,null,{"$f":"F13+F23","v":545},{"$f":"G13+G23","v":21},20,89,611,null,{"$f":"L13+L23","v":79}]
[1,2,"Завтрак","гор.блюдо",{"$f":"'[2]1'!$D$4","v":"Плов из птицы (1 вариант)"},200,18,26,49,435,502,47]
[]
[null,null,null,"гор.напиток",{"$f":"'[2]1'!D5","v":"Чай с сахаром и лимоном"},200,0,0,15,61,459,12]
[null,null,null,"хлеб",{"$f":"'[2]1'!D6","v":"Хлеб пшеничный 2 сорт обогащенный"},50,4,0,25,118,13002,6]
[null,null,null,"фрукты"]
[null,null,null,"закуска",{"$f":"'[2]1'!$D$7","v":"Овощи по сезону "},60,1,0,2,14,145,14]
[]
[null,null,null,"итого",null,{"$f":"SUM(F25:F31)","v":510},{"$f":"SUM(G25:G31)","v":23},{"$f":"SUM(H25:H31)","v":26},{"$f":"SUM(I25:I31)","v":91},{"$f":"SUM(J25:J31)","v":628},null,79]
[{"$f":"A25","v":1},{"$f":"B25","v":2},"Обед","закуска"]
[null,null,null,"1 блюдо"]
[null,null,null,"2 блюдо"]
[null,null,null,"гарнир"]
[null,null,null,"напиток"]
[null,null,null,"хлеб бел."]
[null,null,null,"хлеб черн."]
[]
[]
[null,null,null,"итого",null,{"$f":"SUM(F33:F41)","v":0},{"$f":"SUM(G33:G41)","v":0},{"$f":"SUM(H33:H41)","v":0},{"$f":"SUM(I33:I41)","v":0},{"$f":"SUM(J33:J41)","v":0},null,0]
[{"$f":"A25","v":1},{"$f":"B25","v":2},"Итого за день:",null,null,{"$f":"F32+F42","v":510},{"$f":"G32+G42","v":23},{"$f":"H32+H42","v":26},{"$f":"I32+I42","v":91},{"$f":"J32+J42","v":628},null,79]
[1,3,"Завтрак","гор.блюдо",{"$f":"'[3]1'!$D$4","v":"Пюре картофельное 150 гр."},150,3,5,22,150,472,29]
[]
[null,null,null,"гор.напиток",{"$f":"'[3]1'!D5","v":"Чай с молоком 200 гр."},200,2,1,12,64,460,15]
[null,null,null,"хлеб",{"$f":"'[3]1'!D6","v":"Хлеб пшеничный 2 сорт обогащенный 40 гр."},40,3,0,20,94,13002,6]
[null,null,null,"фрукты"]
[null,null,null,"овощи",{"$f":"'[3]1'!D7","v":"Свекла отварная 60 гр."},60,1,0,5,25,26,10]
[{"$nulls":4},{"$f":"'[3]1'!D8","v":"Сосиски отварные 100 гр."},100,11,13,24,300,74,19]
[null,null,null,"итого",null,{"$f":"SUM(F44:F50)","v":550},{"$f":"SUM(G44:G50)","v":20},{"$f":"SUM(H44:H50)","v":19},{"$f":"SUM(I44:I50)","v":83},{"$f":"SUM(J44:J50)","v":633},null,79]
[{"$f":"A44","v":1},{"$f":"B44","v":3},"Обед","закуска"]
[null,null,null,"1 блюдо"]
[null,null,null,"2 блюдо"]
[null,null,null,"гарнир"]
[null,null,null,"напиток"]
[null,null,null,"хлеб бел."]
[null,null,null,"хлеб черн."]
[]
[]
[null,null,null,"итого",null,{"$f":"SUM(F52:F60)","v":0},{"$f":"SUM(G52:G60)","v":0},{"$f":"SUM(H52:H60)","v":0},{"$f":"SUM(I52:I60)","v":0},{"$f":"SUM(J52:J60)","v":0},null,0]
[{"$f":"A44","v":1},{"$f":"B44","v":3},"Итого за день:",null,null,{"$f":"F51+F61","v":550},{"$f":"G51+G61","v":20},{"$f":"H51+H61","v":19},{"$f":"I51+I61","v":83},{"$f":"J51+J61","v":633},null,79]
[1,4,"Завтрак","гор.блюдо",{"$f":"'[4]1'!$D$4","v":"Каша гречневая жидкая молочная с маслом сливочным"},200,11,11,38,223,184,33]
[]
[null,null,null,"гор.напиток",{"$f":"'[4]1'!$D$5","v":"Кофейный напиток б/м"},200,1,0,18,75,432,17]
[null,null,null,"хлеб"]
[null,null,null,"фрукты",{"$f":"'[4]1'!D7","v":"Фрукты свежие (Яблоко)"},100,0,0,10,47,79,13]
[null,null,null,"сладкое",{"$f":"'[4]1'!D8","v":"Печенье"},50,5,5,27,198,"ПТ",16]
[]
[null,null,null,"итого",null,{"$f":"SUM(F63:F69)","v":550},{"$f":"SUM(G63:G69)","v":17},{"$f":"SUM(H63:H69)","v":16},{"$f":"SUM(I63:I69)","v":93},{"$f":"SUM(J63:J69)","v":543},null,79]
[{"$f":"A63","v":1},{"$f":"B63","v":4},"Обед","закуска"]
[null,null,null,"1 блюдо"]
[null,null,null,"2 блюдо"]
[null,null,null,"гарнир"]
[null,null,null,"напиток"]
[null,null,null,"хлеб бел."]
[null,null,null,"хлеб черн."]
[]
[]
[null,null,null,"итого",null,{"$f":"SUM(F71:F79)","v":0},{"$f":"SUM(G71:G79)","v":0},{"$f":"SUM(H71:H79)","v":0},{"$f":"SUM(I71:I79)","v":0},{"$f":"SUM(J71:J79)","v":0},null,0]
[{"$f":"A63","v":1},{"$f":"B63","v":4},"Итого за день:",null,null,{"$f":"F70+F80","v":550},{"$f":"G70+G80","v":17},{"$f":"H70+H80","v":16},{"$f":"I70+I80","v":93},{"$f":"J70+J80","v":543},null,79]
[1,5,"Завтрак","гор.блюдо",{"$f":"'[5]1'!$D$4","v":"Запеканка из творога 200гр"},220,27,18,24,371,475,32]
[]
[null,null,null,"гор.напиток",{"$f":"'[5]1'!D5","v":"Чай с лимоном"},200,0,0,15,61,459,15]
[null,null,null,"хлеб",{"$f":"'[5]1'!D6","v":"Хлеб пшеничный 2 сорт обогащенный"},40,3,0,20,94,13002,6]
[null,null,null,"фрукты"]
[{"$nulls":4},{"$f":"'[5]1'!D7","v":"сметана 20гр"},20,1,4,1,31,26,10]
[{"$nulls":4},{"$f":"'[5]1'!D8","v":"Сыр сычужный тердый (порциями) 20гр"},20,5,5,0,69,74,16]
[null,null,null,"итого",null,{"$f":"SUM(F82:F88)","v":500},{"$f":"SUM(G82:G88)","v":36},{"$f":"SUM(H82:H88)","v":27},{"$f":"SUM(I82:I88)","v":60},{"$f":"SUM(J82:J88)","v":626},null,79]
[{"$f":"A82","v":1},{"$f":"B82","v":5},"Обед","закуска"]
[null,null,null,"1 блюдо"]
[null,null,null,"2 блюдо"]
[null,null,null,"гарнир"]
[null,null,null,"напиток"]
[null,null,null,"хлеб бел."]
[null,null,null,"хлеб черн."]
[]
[]
[null,null,null,"итого",null,{"$f":"SUM(F90:F98)","v":0},{"$f":"SUM(G90:G98)","v":0},{"$f":"SUM(H90:H98)","v":0},{"$f":"SUM(I90:I98)","v":0},{"$f":"SUM(J90:J98)","v":0},null,0]
[{"$f":"A82","v":1},{"$f":"B82","v":5},"Итого за день:",null,null,{"$f":"F89+F99","v":500},{"$f":"G89+G99","v":36},{"$f":"H89+H99","v":27},{"$f":"I89+I99","v":60},{"$f":"J89+J99","v":626},null,79]
[2,1,"Завтрак","гор.блюдо",{"$f":"'[6]1'!$D$4","v":"Каша манная  молочная"},200,8,11,32,225,226,29.7]
[]
[null,null,null,"гор.напиток",{"$f":"'[6]1'!$D$5","v":"Чай с сахаром"},200,0,0,10,41,458,10]
[null,null,null,"хлеб",{"$f":"'[6]1'!$D$6","v":"Хлеб пшеничный 2 сорт обогащенный"},50,4,0,25,118,13002,8]
[null,null,null,"фрукты","Фрукты свежие (Яблоко)",100,0,0,10,47,79,13]
[{"$nulls":4},"Оладьи с повидлом",75,4,5,17,114,444,18.3]
[]
[null,null,null,"итого",null,{"$f":"SUM(F101:F107)","v":625},{"$f":"SUM(G101:G107)","v":16},16,94,545,null,{"$f":"SUM(L101:L107)","v":79}]
[{"$f":"A101","v":2},{"$f":"B101","v":1},"Обед","закуска"]
[null,null,null,"1 блюдо"]
[null,null,null,"2 блюдо"]
[null,null,null,"гарнир"]
[null,null,null,"напиток"]
[null,null,null,"хлеб бел."]
[null,null,null,"хлеб черн."]
[]
[]
[null,null,null,"итого",null,{"$f":"SUM(F109:F117)","v":0},{"$f":"SUM(G109:G117)","v":0},0,0,0,null,{"$f":"SUM(L109:L117)","v":0}]
[{"$f":"A101","v":2},{"$f":"B101","v":1},"Итого за день:",null,null,{"$f":"F108+F118","v":625},{"$f":"G108+G118","v":16},{"$f":"H108+H118","v":16},{"$f":"I108+I118","v":94},{"$f":"J108+J118","v":545},null,79]
[2,2,"Завтрак","гор.блюдо",{"$f":"'[7]1'!$D$4","v":"Омлет натуральный"},200,10,20,4,225,307,25]
[]
[null,null,null,"гор.напиток",{"$f":"'[7]1'!$D$5","v":"Чай с молоком"},200,2,1,12,64,460,15]
[null,null,null,"хлеб",{"$f":"'[7]1'!$D$6","v":"Хлеб пшеничный 2 сорт обогащенный"},40,3,0,20,94,13002,8]
[null,null,null,"фрукты"]
[null,null,null,"закуска",{"$f":"'[7]1'!$D$7","v":"Икра кабачковая"},60,1,3,4,47,148,21]
[]
[null,null,null,"итого",null,{"$f":"SUM(F120:F126)","v":500},{"$f":"SUM(G120:G126)","v":16},24,40,430,null,{"$f":"SUM(L120:L126)","v":69}]
[{"$f":"A120","v":2},{"$f":"B120","v":2},"Обед","закуска"]
[null,null,null,"1 блюдо"]
[null,null,null,"2 блюдо"]
[null,null,null,"гарнир"]
[null,null,null,"напиток"]
[null,null,null,"хлеб бел."]
[null,null,null,"хлеб черн."]
[]
[]
[null,null,null,"итого",null,{"$f":"SUM(F128:F136)","v":0},{"$f":"SUM(G128:G136)","v":0},0,0,0,null,{"$f":"SUM(L128:L136)","v":0}]
[{"$f":"A120","v":2},{"$f":"B120","v":2},"Итого за день:",null,null,{"$f":"F127+F137","v":500},{"$f":"G127+G137","v":16},{"$f":"H127+H137","v":24},{"$f":"I127+I137","v":40},{"$f":"J127+J137","v":430},null,69]
[2,3,"Завтрак","гор.блюдо",{"$f":"'[8]1'!$D$4","v":"Плов из птицы (1 вариант)"},200,18,26,49,435,502,47]
[]
[null,null,null,"гор.напиток",{"$f":"'[8]1'!$D$5","v":"Чай с лимоном"},200,0,0,15,61,459,13]
[null,null,null,"хлеб",{"$f":"'[8]1'!$D$6","v":"Хлеб пшеничный 2 сорт обогащенный"},50,4,0,25,118,13002,8]
[null,null,null,"фрукты"]
[null,null,null,{"$f":"'[8]1'!$B$7","v":"закуска"},{"$f":"'[8]1'!$D$7","v":"Овощи по сезону (порциями) (помидоры)"},60,1,0,2,14,145,11]
[]
[null,null,null,"итого",null,{"$f":"SUM(F139:F145)","v":510},{"$f":"SUM(G139:G145)","v":23},26,91,628,null,{"$f":"SUM(L139:L145)","v":79}]
[{"$f":"A139","v":2},{"$f":"B139","v":3},"Обед","закуска"]
[null,null,null,"1 блюдо"]
[null,null,null,"2 блюдо"]
[null,null,null,"гарнир"]
[null,null,null,"напиток"]
[null,null,null,"хлеб бел."]
[null,null,null,"хлеб черн."]
[]
[]
[null,null,null,"итого",null,{"$f":"SUM(F147:F155)","v":0},{"$f":"SUM(G147:G155)","v":0},0,0,0,null,{"$f":"SUM(L147:L155)","v":0}]
[{"$f":"A139","v":2},{"$f":"B139","v":3},"Итого за день:",null,null,{"$f":"F146+F156","v":510},{"$f":"G146+G156","v":23},{"$f":"H146+H156","v":26},{"$f":"I146+I156","v":91},{"$f":"J146+J156","v":628},null,79]
[2,4,"Завтрак","гор.блюдо",{"$f":"'[9]1'!$D$4","v":"Каша овсяная вязкая молочная с маслом, сахаром 200 гр."},200,11,12,31,219,284,33]
[]
[null,null,null,"гор.напиток",{"$f":"'[9]1'!$D$5","v":"Кофейный напиток б/м 200 гр"},200,1,0,18,75,432,17]
[null,null,null,"хлеб"]
[null,null,null,"фрукты",{"$f":"'[9]1'!D7","v":"Фрукты свежие (Яблоко) 100 гр."},100,null,0,10,47,79,13]
[{"$nulls":4},{"$f":"'[9]1'!D8","v":"Печенье 50 гр."},50,5,5,27,198,null,16]
[]
[null,null,null,"итого",null,{"$f":"SUM(F158:F164)","v":550},{"$f":"SUM(G158:G164)","v":17},17,86,539,null,{"$f":"SUM(L158:L164)","v":79}]
[{"$f":"A158","v":2},{"$f":"B158","v":4},"Обед","закуска"]
[null,null,null,"1 блюдо"]
[null,null,null,"2 блюдо"]
[null,null,null,"гарнир"]
[null,null,null,"напиток"]
[null,null,null,"хлеб бел."]
[null,null,null,"хлеб черн."]
[]
[]
[null,null,null,"итого",null,{"$f":"SUM(F166:F174)","v":0},{"$f":"SUM(G166:G174)","v":0},0,0,0,null,{"$f":"SUM(L166:L174)","v":0}]
[{"$f":"A158","v":2},{"$f":"B158","v":4},"Итого за день:",null,null,{"$f":"F165+F175","v":550},{"$f":"G165+G175","v":17},{"$f":"H165+H175","v":17},{"$f":"I165+I175","v":86},{"$f":"J165+J175","v":539},null,79]
[2,5,"Завтрак","гор.блюдо",{"$f":"'[10]1'!$D$4","v":"Макаронные изделия отварные 150 гр."},150,6,8,17,230,255,11]
[]
[null,null,null,"гор.напиток",{"$f":"'[10]1'!$D$5","v":"Чай с сахаром 200 гр."},200,0,0,10,41,458,10]
[null,null,null,"хлеб",{"$f":"'[10]1'!$D$6","v":"Хлеб пшеничный 2 сорт обогащенный 50 гр."},50,4,0,25,118,13002,8]
[null,null,null,"фрукты"]
[null,null,null,{"$f":"'[10]1'!$B$7","v":"закуска"},{"$f":"'[10]1'!D7","v":"Икра кабачковая (промышленного производства) 60 гр."},60,1,3,4,47,148,21]
[{"$nulls":4},{"$f":"'[10]1'!D8","v":"Сосиски отварные 100 гр."},100,11,13,23,300,74,29]
[null,null,null,"итого",null,{"$f":"SUM(F177:F183)","v":560},{"$f":"SUM(G177:G183)","v":22},24,79,736,null,{"$f":"SUM(L177:L183)","v":79}]
[{"$f":"A177","v":2},{"$f":"B177","v":5},"Обед","закуска"]
[null,null,null,"1 блюдо"]
[null,null,null,"2 блюдо"]
[null,null,null,"гарнир"]
[null,null,null,"напиток"]
[null,null,null,"хлеб бел."]
[null,null,null,"хлеб черн."]
[]
[]
[null,null,null,"итого",null,{"$f":"SUM(F185:F193)","v":0},{"$f":"SUM(G185:G193)","v":0},0,0,0,null,{"$f":"SUM(L185:L193)","v":0}]
[{"$f":"A177","v":2},{"$f":"B177","v":5},"Итого за день:",null,null,{"$f":"F184+F194","v":560},{"$f":"G184+G194","v":22},{"$f":"H184+H194","v":24},{"$f":"I184+I194","v":79},{"$f":"J184+J194","v":736},null,79]
[null,null,"Среднее значение за период:",null,null,{"$f":"(F24+F43+F62+F81+F100+F119+F138+F157+F176+F195)/(IF(F24=0,0,1)+IF(F43=0,0,1)+IF(F62=0,0,1)+IF(F81=0,0,1)+IF(F100=0,0,1)+IF(F119=0,0,1)+IF(F138=0,0,1)+IF(F157=0,0,1)+IF(F176=0,0,1)+IF(F195=0,0,1))","v":540},{"$f":"(G24+G43+G62+G81+G100+G119+G138+G157+G176+G195)/(IF(G24=0,0,1)+IF(G43=0,0,1)+IF(G62=0,0,1)+IF(G81=0,0,1)+IF(G100=0,0,1)+IF(G119=0,0,1)+IF(G138=0,0,1)+IF(G157=0,0,1)+IF(G176=0,0,1)+IF(G195=0,0,1))","v":21.1},21.5,80.6,591.9,null,{"$f":"(L24+L43+L62+L81+L100+L119+L138+L157+L176+L195)/(IF(L24=0,0,1)+IF(L43=0,0,1)+IF(L62=0,0,1)+IF(L81=0,0,1)+IF(L100=0,0,1)+IF(L119=0,0,1)+IF(L138=0,0,1)+IF(L157=0,0,1)+IF(L176=0,0,1)+IF(L195=0,0,1))","v":78}]